BEGIN:VCALENDAR
VERSION:2.0
PRODID:-//Christian Faith and Fellowship Mission - Sanctuary of Praise - ECPv6.15.15//NONSGML v1.0//EN
CALSCALE:GREGORIAN
METHOD:PUBLISH
X-ORIGINAL-URL:https://cffmsop.org
X-WR-CALDESC:Events for Christian Faith and Fellowship Mission - Sanctuary of Praise
REFRESH-INTERVAL;VALUE=DURATION:PT1H
X-Robots-Tag:noindex
X-PUBLISHED-TTL:PT1H
BEGIN:VTIMEZONE
TZID:America/Chicago
BEGIN:DAYLIGHT
TZOFFSETFROM:-0600
TZOFFSETTO:-0500
TZNAME:CDT
DTSTART:20230312T080000
END:DAYLIGHT
BEGIN:STANDARD
TZOFFSETFROM:-0500
TZOFFSETTO:-0600
TZNAME:CST
DTSTART:20231105T070000
END:STANDARD
BEGIN:DAYLIGHT
TZOFFSETFROM:-0600
TZOFFSETTO:-0500
TZNAME:CDT
DTSTART:20240310T080000
END:DAYLIGHT
BEGIN:STANDARD
TZOFFSETFROM:-0500
TZOFFSETTO:-0600
TZNAME:CST
DTSTART:20241103T070000
END:STANDARD
BEGIN:DAYLIGHT
TZOFFSETFROM:-0600
TZOFFSETTO:-0500
TZNAME:CDT
DTSTART:20250309T080000
END:DAYLIGHT
BEGIN:STANDARD
TZOFFSETFROM:-0500
TZOFFSETTO:-0600
TZNAME:CST
DTSTART:20251102T070000
END:STANDARD
END:VTIMEZONE
BEGIN:VEVENT
DTSTART;TZID=America/Chicago:20241222T100000
DTEND;TZID=America/Chicago:20241222T123000
DTSTAMP:20260420T054622
CREATED:20231031T235712Z
LAST-MODIFIED:20241210T110422Z
UID:4273-1734861600-1734870600@cffmsop.org
SUMMARY:Christmas Carol Service
DESCRIPTION:Join us as we kickstart the Christmas celebration by coming together in worship\, reflection\, and togetherness on this special day. It’s the perfect opportunity to prepare your hearts for the joy of Christmas. \nMark your calendars\, invite your friends and family\, and let’s make this a day to remember. The more\, the merrier! \nSee you on Sunday\, December 22nd\, and again on Christmas Day as we spread the love and warmth of the season at Sanctuary of Praise!
URL:https://cffmsop.org/event/christmas-eve-service/
LOCATION:CFFM – Sanctuary of Praise\, 1710 Firman Dr.\, Ste 100\, 75081\, United States
CATEGORIES:Celebration
ATTACH;FMTTYPE=image/png:https://cffmsop.org/wp-content/uploads/2023/10/White-Minimalist-Christmas-Party-Invitation-Facebook-Post.png
ORGANIZER;CN="Blessing Oyem":MAILTO:cffmsop@gmail.com
END:VEVENT
END:VCALENDAR