BEGIN:VCALENDAR
VERSION:2.0
PRODID:-//Christian Faith and Fellowship Mission - Sanctuary of Praise - ECPv6.15.15//NONSGML v1.0//EN
CALSCALE:GREGORIAN
METHOD:PUBLISH
X-ORIGINAL-URL:https://cffmsop.org
X-WR-CALDESC:Events for Christian Faith and Fellowship Mission - Sanctuary of Praise
REFRESH-INTERVAL;VALUE=DURATION:PT1H
X-Robots-Tag:noindex
X-PUBLISHED-TTL:PT1H
BEGIN:VTIMEZONE
TZID:America/Chicago
BEGIN:DAYLIGHT
TZOFFSETFROM:-0600
TZOFFSETTO:-0500
TZNAME:CDT
DTSTART:20230312T080000
END:DAYLIGHT
BEGIN:STANDARD
TZOFFSETFROM:-0500
TZOFFSETTO:-0600
TZNAME:CST
DTSTART:20231105T070000
END:STANDARD
BEGIN:DAYLIGHT
TZOFFSETFROM:-0600
TZOFFSETTO:-0500
TZNAME:CDT
DTSTART:20240310T080000
END:DAYLIGHT
BEGIN:STANDARD
TZOFFSETFROM:-0500
TZOFFSETTO:-0600
TZNAME:CST
DTSTART:20241103T070000
END:STANDARD
BEGIN:DAYLIGHT
TZOFFSETFROM:-0600
TZOFFSETTO:-0500
TZNAME:CDT
DTSTART:20250309T080000
END:DAYLIGHT
BEGIN:STANDARD
TZOFFSETFROM:-0500
TZOFFSETTO:-0600
TZNAME:CST
DTSTART:20251102T070000
END:STANDARD
END:VTIMEZONE
BEGIN:VEVENT
DTSTART;TZID=America/Chicago:20240725T180000
DTEND;TZID=America/Chicago:20240728T130000
DTSTAMP:20260420T124235
CREATED:20240523T160959Z
LAST-MODIFIED:20240724T022208Z
UID:4309-1721930400-1722171600@cffmsop.org
SUMMARY:Annual Women's Conference
DESCRIPTION:Women’s Conference Agenda (July 2024) – Click to Download\nTheme: The Woman with Alabaster (Luke 7:36-50; 37)\nHost: The Victorious Ladies of Sanctuary of Praise \nHost Pastors: Pastor Dorcas & Jude Akinleyimu \n\n\n\nWe encourage all women; single\, married\, young adults and youths to gather together for a time to worship\, learn and grow together in one spirit and mind. \nWe have great line up of speakers whom God will use to equip and encourage us with His words. \nThis Conference will be held in the Sanctuary on all days and streamed LIVE on Facebook. On Saturday\, there will be some outdoor events. To join our conference on Facebook\, please click this LINK \nRegistration is required to join the conference. This will allow us to send you updates and reminders about the event.  \nOrder of Events: \nThurs 7/25 (Church): Powerful Prayer Session and Worship. Time: 6pm to 8pm  \nFri 7/26 (Church): Seminars\, Teachings\, Workshops\, and Worship. Time: 6pm to 9pm (WEAR PURPLE!) \nSaturday 7/27 (Church & Outdoor Area): Evangelism/Outreach\, Seminars\, and Worship. Time: 2pm – 6pm (WEAR PINK!) \nSunday 7/28 (Church): Grand Finale!! Worship\, Hearing of the Word\, Seminars\, and more Worship! Time: 10am to 12:30pm \nSPEAKERS:\nPastor Beth Mason\n \n  \n  \n  \n\nSis. Carol Hurtig\n \n  \n  \n  \n\nMinister Tamu Miller\n \n  \n  \n  \n  \n  \nPastor Eunice Oluwalere\n \n  \n  \n  \n  \n  \n\nPastor Dorcas Akinleyimu\n \n  \n  \n  \n  \n\nPastor Eyinade Adesola\n \n\n\n\n\n\n  \n  \nClick here to learn more about our 2024 Speakers \n  \n\n\n\nChoir Ministrations by:\nCFFMSOP Choir\nCGIM Choir\nDallas Praise Team  \nPianist:\nSister Rita Armenta \n  \nFeel free to save and share our flyer
URL:https://cffmsop.org/event/wc2024/
LOCATION:CFFM – Sanctuary of Praise\, 1710 Firman Dr.\, Ste 100\, 75081\, United States
CATEGORIES:Celebration,Conference,Prayer
ATTACH;FMTTYPE=image/png:https://cffmsop.org/wp-content/uploads/2024/05/Womens-Conf-Flyer-2024.png
END:VEVENT
END:VCALENDAR