BEGIN:VCALENDAR
VERSION:2.0
PRODID:-//Christian Faith and Fellowship Mission - Sanctuary of Praise - ECPv6.15.15//NONSGML v1.0//EN
CALSCALE:GREGORIAN
METHOD:PUBLISH
X-ORIGINAL-URL:https://cffmsop.org
X-WR-CALDESC:Events for Christian Faith and Fellowship Mission - Sanctuary of Praise
REFRESH-INTERVAL;VALUE=DURATION:PT1H
X-Robots-Tag:noindex
X-PUBLISHED-TTL:PT1H
BEGIN:VTIMEZONE
TZID:America/Chicago
BEGIN:DAYLIGHT
TZOFFSETFROM:-0600
TZOFFSETTO:-0500
TZNAME:CDT
DTSTART:20220313T080000
END:DAYLIGHT
BEGIN:STANDARD
TZOFFSETFROM:-0500
TZOFFSETTO:-0600
TZNAME:CST
DTSTART:20221106T070000
END:STANDARD
BEGIN:DAYLIGHT
TZOFFSETFROM:-0600
TZOFFSETTO:-0500
TZNAME:CDT
DTSTART:20230312T080000
END:DAYLIGHT
BEGIN:STANDARD
TZOFFSETFROM:-0500
TZOFFSETTO:-0600
TZNAME:CST
DTSTART:20231105T070000
END:STANDARD
BEGIN:DAYLIGHT
TZOFFSETFROM:-0600
TZOFFSETTO:-0500
TZNAME:CDT
DTSTART:20240310T080000
END:DAYLIGHT
BEGIN:STANDARD
TZOFFSETFROM:-0500
TZOFFSETTO:-0600
TZNAME:CST
DTSTART:20241103T070000
END:STANDARD
END:VTIMEZONE
BEGIN:VEVENT
DTSTART;TZID=America/Chicago:20230817T190000
DTEND;TZID=America/Chicago:20230820T123000
DTSTAMP:20260423T104911
CREATED:20230628T184939Z
LAST-MODIFIED:20230806T111903Z
UID:4243-1692298800-1692534600@cffmsop.org
SUMMARY:Men's Conference
DESCRIPTION:Theme: Dwelling in His Secret Place (Psalms 91:1-2) \nDates: Aug 17 – 20\, 2023 \nHost: The Men of Influence\nHost Pastors: Pastor Dorcas & Jude Akinleyimu \n\n\n\nWe encourage all men; single\, married\, young adults and youths to gather together for a time to worship\, learn and grow together in one spirit and mind. \nWe have great line up of speakers whom God will use to equip and encourage us with His words. \nThis Conference will be held on Zoom on Thursday and in the Sanctuary on Friday\, Saturday\, and Sunday. To join our conference on Zoom\, please click this LINK\nThe events holding in the Sanctuary will also be streamed LIVE on Facebook.  Please click this LINK to join.  \nOrder of Events:  \nThurs 8/17 (ZOOM): Powerful Prayer Session and Worship. Time: 7pm to 8pm \nFri 8/18: Seminars\, Teachings\, and Worship. Time: 7pm to 9pm \nSaturday 8/19: Encouraging words\, Games\, Food and Drinks\, and more! Time: 10am to 3pm \nSunday 8/20: Grand Finale!! Worship\, Hearing of the Word\, and more Worship! Time: 10am to 12:30p \n\nZOOM Information:\nMeeting ID: 593 943 5552\nPasscode: 1710FD
URL:https://cffmsop.org/event/mc23/
LOCATION:CFFM – Sanctuary of Praise\, 1710 Firman Dr.\, Ste 100\, 75081\, United States
CATEGORIES:Celebration,Conference,Prayer
ATTACH;FMTTYPE=image/png:https://cffmsop.org/wp-content/uploads/2023/06/Mens-Conference-DRAFT-Flyer-1.png
END:VEVENT
END:VCALENDAR