BEGIN:VCALENDAR
VERSION:2.0
PRODID:-//Christian Faith and Fellowship Mission - Sanctuary of Praise - ECPv6.15.15//NONSGML v1.0//EN
CALSCALE:GREGORIAN
METHOD:PUBLISH
X-WR-CALNAME:Christian Faith and Fellowship Mission - Sanctuary of Praise
X-ORIGINAL-URL:https://cffmsop.org
X-WR-CALDESC:Events for Christian Faith and Fellowship Mission - Sanctuary of Praise
REFRESH-INTERVAL;VALUE=DURATION:PT1H
X-Robots-Tag:noindex
X-PUBLISHED-TTL:PT1H
BEGIN:VTIMEZONE
TZID:America/Chicago
BEGIN:DAYLIGHT
TZOFFSETFROM:-0600
TZOFFSETTO:-0500
TZNAME:CDT
DTSTART:20230312T080000
END:DAYLIGHT
BEGIN:STANDARD
TZOFFSETFROM:-0500
TZOFFSETTO:-0600
TZNAME:CST
DTSTART:20231105T070000
END:STANDARD
BEGIN:DAYLIGHT
TZOFFSETFROM:-0600
TZOFFSETTO:-0500
TZNAME:CDT
DTSTART:20240310T080000
END:DAYLIGHT
BEGIN:STANDARD
TZOFFSETFROM:-0500
TZOFFSETTO:-0600
TZNAME:CST
DTSTART:20241103T070000
END:STANDARD
BEGIN:DAYLIGHT
TZOFFSETFROM:-0600
TZOFFSETTO:-0500
TZNAME:CDT
DTSTART:20250309T080000
END:DAYLIGHT
BEGIN:STANDARD
TZOFFSETFROM:-0500
TZOFFSETTO:-0600
TZNAME:CST
DTSTART:20251102T070000
END:STANDARD
END:VTIMEZONE
BEGIN:VEVENT
DTSTART;TZID=America/Chicago:20241225T100000
DTEND;TZID=America/Chicago:20241225T120000
DTSTAMP:20260420T033802
CREATED:20231031T234545Z
LAST-MODIFIED:20241210T110754Z
UID:4270-1735120800-1735128000@cffmsop.org
SUMMARY:Christmas Day Celebration
DESCRIPTION:Join us for a joyous Christmas celebration and carol sing-along at our church! Embrace the festive spirit as we come together to celebrate the birth of Jesus with heartwarming music\, joyful fellowship\, and the warmth of our faith community. Whether you’re a regular churchgoer or new to the area\, everyone is welcome to join in the merriment. Come and be a part of this special service that brings the true meaning of Christmas to life. Let’s make this holiday season memorable together at Sanctuary of Praise! \nIf you’d like to recommend any Christmas songs for the choir\, kindly share your song suggestions with the choir leader by sending them to her phone or via email to the church administrator at cffmsop@gmail.com. \nSee you there!
URL:https://cffmsop.org/event/christmas2024/
LOCATION:CFFM – Sanctuary of Praise\, 1710 Firman Dr.\, Ste 100\, 75081\, United States
CATEGORIES:Celebration
ATTACH;FMTTYPE=image/png:https://cffmsop.org/wp-content/uploads/2023/10/White-Minimalist-Christmas-Party-Invitation-Facebook-Post.png
ORGANIZER;CN="Blessing Oyem":MAILTO:cffmsop@gmail.com
END:VEVENT
END:VCALENDAR