BEGIN:VCALENDAR
VERSION:2.0
PRODID:-//Christian Faith and Fellowship Mission - Sanctuary of Praise - ECPv6.15.15//NONSGML v1.0//EN
CALSCALE:GREGORIAN
METHOD:PUBLISH
X-ORIGINAL-URL:https://cffmsop.org
X-WR-CALDESC:Events for Christian Faith and Fellowship Mission - Sanctuary of Praise
REFRESH-INTERVAL;VALUE=DURATION:PT1H
X-Robots-Tag:noindex
X-PUBLISHED-TTL:PT1H
BEGIN:VTIMEZONE
TZID:America/Chicago
BEGIN:DAYLIGHT
TZOFFSETFROM:-0600
TZOFFSETTO:-0500
TZNAME:CDT
DTSTART:20230312T080000
END:DAYLIGHT
BEGIN:STANDARD
TZOFFSETFROM:-0500
TZOFFSETTO:-0600
TZNAME:CST
DTSTART:20231105T070000
END:STANDARD
BEGIN:DAYLIGHT
TZOFFSETFROM:-0600
TZOFFSETTO:-0500
TZNAME:CDT
DTSTART:20240310T080000
END:DAYLIGHT
BEGIN:STANDARD
TZOFFSETFROM:-0500
TZOFFSETTO:-0600
TZNAME:CST
DTSTART:20241103T070000
END:STANDARD
BEGIN:DAYLIGHT
TZOFFSETFROM:-0600
TZOFFSETTO:-0500
TZNAME:CDT
DTSTART:20250309T080000
END:DAYLIGHT
BEGIN:STANDARD
TZOFFSETFROM:-0500
TZOFFSETTO:-0600
TZNAME:CST
DTSTART:20251102T070000
END:STANDARD
END:VTIMEZONE
BEGIN:VEVENT
DTSTART;TZID=America/Chicago:20241215T100000
DTEND;TZID=America/Chicago:20241215T123000
DTSTAMP:20260420T033908
CREATED:20231028T000307Z
LAST-MODIFIED:20241210T105634Z
UID:4268-1734256800-1734265800@cffmsop.org
SUMMARY:Annual Thanksgiving Service
DESCRIPTION:Let us come together in gratitude and reverence to God for guiding us through the journey of 2024 so far. \nWe’ve been granted life to witness the month of December\, and we wish to appreciate Him for our personal growth\, the gift of life\, the trials that have strengthened us\, and countless other blessings.  \nWe look forward to your presence at this event.  \nKindly save the date and extend the invitation to those who want to appreciate their maker.   \n 
URL:https://cffmsop.org/event/ats2023/
LOCATION:CFFM – Sanctuary of Praise\, 1710 Firman Dr.\, Ste 100\, 75081\, United States
CATEGORIES:Celebration
ATTACH;FMTTYPE=image/png:https://cffmsop.org/wp-content/uploads/2023/10/Brown-and-White-Minimalist-Thanks-Giving-Service-Instagram-Post.png
ORGANIZER;CN="Blessing Oyem":MAILTO:cffmsop@gmail.com
END:VEVENT
END:VCALENDAR