BEGIN:VCALENDAR
VERSION:2.0
PRODID:-//Christian Faith and Fellowship Mission - Sanctuary of Praise - ECPv6.15.15//NONSGML v1.0//EN
CALSCALE:GREGORIAN
METHOD:PUBLISH
X-WR-CALNAME:Christian Faith and Fellowship Mission - Sanctuary of Praise
X-ORIGINAL-URL:https://cffmsop.org
X-WR-CALDESC:Events for Christian Faith and Fellowship Mission - Sanctuary of Praise
REFRESH-INTERVAL;VALUE=DURATION:PT1H
X-Robots-Tag:noindex
X-PUBLISHED-TTL:PT1H
BEGIN:VTIMEZONE
TZID:America/Chicago
BEGIN:DAYLIGHT
TZOFFSETFROM:-0600
TZOFFSETTO:-0500
TZNAME:CDT
DTSTART:20230312T080000
END:DAYLIGHT
BEGIN:STANDARD
TZOFFSETFROM:-0500
TZOFFSETTO:-0600
TZNAME:CST
DTSTART:20231105T070000
END:STANDARD
BEGIN:DAYLIGHT
TZOFFSETFROM:-0600
TZOFFSETTO:-0500
TZNAME:CDT
DTSTART:20240310T080000
END:DAYLIGHT
BEGIN:STANDARD
TZOFFSETFROM:-0500
TZOFFSETTO:-0600
TZNAME:CST
DTSTART:20241103T070000
END:STANDARD
BEGIN:DAYLIGHT
TZOFFSETFROM:-0600
TZOFFSETTO:-0500
TZNAME:CDT
DTSTART:20250309T080000
END:DAYLIGHT
BEGIN:STANDARD
TZOFFSETFROM:-0500
TZOFFSETTO:-0600
TZNAME:CST
DTSTART:20251102T070000
END:STANDARD
END:VTIMEZONE
BEGIN:VEVENT
DTSTART;TZID=America/Chicago:20240926T180000
DTEND;TZID=America/Chicago:20240929T123000
DTSTAMP:20260420T090612
CREATED:20240813T032957Z
LAST-MODIFIED:20240919T105709Z
UID:4377-1727373600-1727613000@cffmsop.org
SUMMARY:Annual Men's Conference
DESCRIPTION:  \nTheme: The Wise Man – Daniel 12:3 \nDates: September 26 to 29\, 2024 (Thursday to Sunday) \nHost: The Men of Influence (MOI)\nHost Pastors: Pastor Dorcas & Jude Akinleyimu \n\n\n\nWe encourage all men; single\, married\, young adults and youths to gather together for a time to worship\, learn and grow together in one spirit and mind. \nWe have great line up of speakers whom God will use to equip and encourage us with His words. \nThis Conference will be held in the Sanctuary and will also be streamed LIVE on Facebook.  Please click this LINK to connect via Facebook.  \n  \nOrder of Events – Click to Download:  \nThursday 9/26: Powerful Prayer Sessions. Time: 6pm to 7:30pm \nFriday 9/27: Seminars\, Quiz\, and Worship. Time: 6pm to 8pm \nSaturday 9/28: Encouraging words\, Evangelism\, Family Gathering (food & drinks)\, and more! Time: 10:30am to 3pm \nSunday 9/29: Grand Finale!! Worship\, Hearing of The Word\, Prayers\, and Worship! Time: 10am to 12:30p
URL:https://cffmsop.org/event/mc24/
LOCATION:CFFM – Sanctuary of Praise\, 1710 Firman Dr.\, Ste 100\, 75081\, United States
ATTACH;FMTTYPE=image/png:https://cffmsop.org/wp-content/uploads/2024/08/Blue-Modern-Church-Conference-Flyer-1.png
END:VEVENT
END:VCALENDAR