BEGIN:VCALENDAR
VERSION:2.0
PRODID:-//Christian Faith and Fellowship Mission - Sanctuary of Praise - ECPv6.15.15//NONSGML v1.0//EN
CALSCALE:GREGORIAN
METHOD:PUBLISH
X-ORIGINAL-URL:https://cffmsop.org
X-WR-CALDESC:Events for Christian Faith and Fellowship Mission - Sanctuary of Praise
REFRESH-INTERVAL;VALUE=DURATION:PT1H
X-Robots-Tag:noindex
X-PUBLISHED-TTL:PT1H
BEGIN:VTIMEZONE
TZID:America/Chicago
BEGIN:DAYLIGHT
TZOFFSETFROM:-0600
TZOFFSETTO:-0500
TZNAME:CDT
DTSTART:20230312T080000
END:DAYLIGHT
BEGIN:STANDARD
TZOFFSETFROM:-0500
TZOFFSETTO:-0600
TZNAME:CST
DTSTART:20231105T070000
END:STANDARD
BEGIN:DAYLIGHT
TZOFFSETFROM:-0600
TZOFFSETTO:-0500
TZNAME:CDT
DTSTART:20240310T080000
END:DAYLIGHT
BEGIN:STANDARD
TZOFFSETFROM:-0500
TZOFFSETTO:-0600
TZNAME:CST
DTSTART:20241103T070000
END:STANDARD
BEGIN:DAYLIGHT
TZOFFSETFROM:-0600
TZOFFSETTO:-0500
TZNAME:CDT
DTSTART:20250309T080000
END:DAYLIGHT
BEGIN:STANDARD
TZOFFSETFROM:-0500
TZOFFSETTO:-0600
TZNAME:CST
DTSTART:20251102T070000
END:STANDARD
END:VTIMEZONE
BEGIN:VEVENT
DTSTART;TZID=America/Chicago:20240421T100000
DTEND;TZID=America/Chicago:20240421T123000
DTSTAMP:20260422T133325
CREATED:20240322T132135Z
LAST-MODIFIED:20240322T134713Z
UID:4296-1713693600-1713702600@cffmsop.org
SUMMARY:Annual Youth Event
DESCRIPTION:Please visit us soon. \nWe will have more details in the near future.
URL:https://cffmsop.org/event/annual-youth-event/
LOCATION:CFFM – Sanctuary of Praise\, 1710 Firman Dr.\, Ste 100\, 75081\, United States
ATTACH;FMTTYPE=image/png:https://cffmsop.org/wp-content/uploads/2024/03/Party-Time-Instagram-Post.png
ORGANIZER;CN="Blessing Oyem":MAILTO:cffmsop@gmail.com
END:VEVENT
END:VCALENDAR