BEGIN:VCALENDAR
VERSION:2.0
PRODID:-//Christian Faith and Fellowship Mission - Sanctuary of Praise - ECPv6.15.15//NONSGML v1.0//EN
CALSCALE:GREGORIAN
METHOD:PUBLISH
X-WR-CALNAME:Christian Faith and Fellowship Mission - Sanctuary of Praise
X-ORIGINAL-URL:https://cffmsop.org
X-WR-CALDESC:Events for Christian Faith and Fellowship Mission - Sanctuary of Praise
REFRESH-INTERVAL;VALUE=DURATION:PT1H
X-Robots-Tag:noindex
X-PUBLISHED-TTL:PT1H
BEGIN:VTIMEZONE
TZID:America/Chicago
BEGIN:DAYLIGHT
TZOFFSETFROM:-0600
TZOFFSETTO:-0500
TZNAME:CDT
DTSTART:20220313T080000
END:DAYLIGHT
BEGIN:STANDARD
TZOFFSETFROM:-0500
TZOFFSETTO:-0600
TZNAME:CST
DTSTART:20221106T070000
END:STANDARD
BEGIN:DAYLIGHT
TZOFFSETFROM:-0600
TZOFFSETTO:-0500
TZNAME:CDT
DTSTART:20230312T080000
END:DAYLIGHT
BEGIN:STANDARD
TZOFFSETFROM:-0500
TZOFFSETTO:-0600
TZNAME:CST
DTSTART:20231105T070000
END:STANDARD
BEGIN:DAYLIGHT
TZOFFSETFROM:-0600
TZOFFSETTO:-0500
TZNAME:CDT
DTSTART:20240310T080000
END:DAYLIGHT
BEGIN:STANDARD
TZOFFSETFROM:-0500
TZOFFSETTO:-0600
TZNAME:CST
DTSTART:20241103T070000
END:STANDARD
END:VTIMEZONE
BEGIN:VEVENT
DTSTART;TZID=America/Chicago:20231231T100000
DTEND;TZID=America/Chicago:20231231T110000
DTSTAMP:20260422T172824
CREATED:20231101T000316Z
LAST-MODIFIED:20231101T041203Z
UID:4275-1704016800-1704020400@cffmsop.org
SUMMARY:New Year's Eve Service (ZOOM)
DESCRIPTION:Gather with us from the comfort of your home as we reflect on the blessings and challenges of the past year and seek hope and inspiration for the year ahead. Together\, we’ll offer prayers\, songs\, and words of encouragement to begin the welcoming of 2024 with faith and positivity. \nWhile we may be physically apart\, our virtual community is strong and united. Don’t miss this wonderful opportunity to connect with your church family and start the New Year in a spirit of togetherness. \nSave the date\, invite your loved ones\, and let’s come together to celebrate and pray for a bright and hopeful New Year. We look forward to seeing you ONLINE on New Year’s Eve!
URL:https://cffmsop.org/event/new-years-eve-service-zoom/
LOCATION:ZOOM
CATEGORIES:Celebration
ORGANIZER;CN="Blessing Oyem":MAILTO:cffmsop@gmail.com
END:VEVENT
END:VCALENDAR